BEGIN:VCALENDAR
VERSION:2.0
PRODID:-//Great Wine Capitals - ECPv6.15.12.2//NONSGML v1.0//EN
CALSCALE:GREGORIAN
METHOD:PUBLISH
X-WR-CALNAME:Great Wine Capitals
X-ORIGINAL-URL:https://www.greatwinecapitals.com
X-WR-CALDESC:Events for Great Wine Capitals
REFRESH-INTERVAL;VALUE=DURATION:PT1H
X-Robots-Tag:noindex
X-PUBLISHED-TTL:PT1H
BEGIN:VTIMEZONE
TZID:UTC
BEGIN:STANDARD
TZOFFSETFROM:+0000
TZOFFSETTO:+0000
TZNAME:UTC
DTSTART:20250101T000000
END:STANDARD
END:VTIMEZONE
BEGIN:VEVENT
DTSTART;VALUE=DATE:20260203
DTEND;VALUE=DATE:20260207
DTSTAMP:20260421T181018
CREATED:20251217T041152Z
LAST-MODIFIED:20251217T041152Z
UID:32377-1770076800-1770422399@www.greatwinecapitals.com
SUMMARY:16th International Conference of the Academy of Wine Business Research
DESCRIPTION:
URL:https://www.greatwinecapitals.com/event/16th-international-conference-of-the-academy-of-wine-business-research/
CATEGORIES:B2B
END:VEVENT
END:VCALENDAR