BEGIN:VCALENDAR
VERSION:2.0
PRODID:-//Great Wine Capitals - ECPv6.15.12.2//NONSGML v1.0//EN
CALSCALE:GREGORIAN
METHOD:PUBLISH
X-WR-CALNAME:Great Wine Capitals
X-ORIGINAL-URL:https://www.greatwinecapitals.com
X-WR-CALDESC:Events for Great Wine Capitals
REFRESH-INTERVAL;VALUE=DURATION:PT1H
X-Robots-Tag:noindex
X-PUBLISHED-TTL:PT1H
BEGIN:VTIMEZONE
TZID:UTC
BEGIN:STANDARD
TZOFFSETFROM:+0000
TZOFFSETTO:+0000
TZNAME:UTC
DTSTART:20250101T000000
END:STANDARD
END:VTIMEZONE
BEGIN:VEVENT
DTSTART;TZID=UTC:20260226T183000
DTEND;TZID=UTC:20260301T210000
DTSTAMP:20260421T164423
CREATED:20251229T100848Z
LAST-MODIFIED:20251229T100849Z
UID:33139-1772130600-1772398800@www.greatwinecapitals.com
SUMMARY:Essência do Vinho - Porto
DESCRIPTION:Essência do Vinho – Porto 2026  will take place from February 26 to March 1\, 2026\, at the Palácio da Bolsa in Porto\, as part of Wine & Travel Week. The event will bring together hundreds of producers\, thousands of wines available for tasting\, the TOP 10 Portuguese Wines competition\, and exclusive tasting experiences in an event that is a benchmark for wine tourism in Portugal and Europe. \nDates: February 26 to March 1\, 2026\nLocation: Palácio da Bolsa\, Porto \nWhat to Expect \nProducers: Around 400 national and international producers \nWines: Over 4\,000 wines available for complimentary tasting \nHighlights: Guided tastings\, the Revista de Vinhos’ TOP 10 Portuguese Wines awards ceremony\, and integration with Wine & Travel Week\, an event dedicated to wine tourism in Portugal \n 
URL:https://www.greatwinecapitals.com/event/essencia-do-vinho-porto/
CATEGORIES:B2C,B2B
END:VEVENT
END:VCALENDAR