BEGIN:VCALENDAR
VERSION:2.0
PRODID:-//Great Wine Capitals - ECPv6.15.12.2//NONSGML v1.0//EN
CALSCALE:GREGORIAN
METHOD:PUBLISH
X-ORIGINAL-URL:https://www.greatwinecapitals.com
X-WR-CALDESC:Events for Great Wine Capitals
REFRESH-INTERVAL;VALUE=DURATION:PT1H
X-Robots-Tag:noindex
X-PUBLISHED-TTL:PT1H
BEGIN:VTIMEZONE
TZID:UTC
BEGIN:STANDARD
TZOFFSETFROM:+0000
TZOFFSETTO:+0000
TZNAME:UTC
DTSTART:20250101T000000
END:STANDARD
END:VTIMEZONE
BEGIN:VEVENT
DTSTART;TZID=UTC:20260304T210000
DTEND;TZID=UTC:20260304T233000
DTSTAMP:20260419T235017
CREATED:20251219T181829Z
LAST-MODIFIED:20251219T181829Z
UID:32494-1772658000-1772667000@www.greatwinecapitals.com
SUMMARY:Harvest Festival Concert
DESCRIPTION:The Fiesta de la Cosecha is an annual concert organized by the Fondo Vitivinícola Argentino\, held in the vineyard located at the Mendoza International Airport. Since its inception in 2002\, this unique event takes place among rows of Malbec vines and combines classical and popular music in a spectacular setting. \n\nThe concert features the Mendoza Philharmonic Orchestra and often includes collaborations with renowned popular artists performing symphonic arrangements. For example\, in 2025\, the iconic band Los Auténticos Decadentes joined the orchestra for a special performance. \nBeyond its artistic value\, the event has a strong social component: attendees are encouraged to donate food items such as powdered milk or long-life milk to support the Food Bank. Overall\, the Fiesta de la Cosecha celebrates the grape harvest\, promotes Mendoza’s wine culture\, and offers an unforgettable musical experience in a truly distinctive venue.
URL:https://www.greatwinecapitals.com/event/harvest-festival-concert/
CATEGORIES:B2C
ATTACH;FMTTYPE=image/png:https://www.greatwinecapitals.com/wp-content/uploads/2025/12/Fiesta-de-la-Cosecha.png
END:VEVENT
END:VCALENDAR